BEGIN:VCALENDAR
VERSION:2.0
PRODID:-//wp-events-plugin.com//7.2.2.1//EN
TZID:Europe/Oslo
X-WR-TIMEZONE:Europe/Oslo
BEGIN:VEVENT
UID:268@nrfk.org
DTSTART;TZID=Europe/Oslo;VALUE=DATE:20220129
DTEND;TZID=Europe/Oslo;VALUE=DATE:20220131
DTSTAMP:20211216T110048Z
URL:https://nrfk.org/events/akroteorikurs/
SUMMARY:Akroteorikurs
DESCRIPTION:Flyskolen inviterer til akroteorikurs helgen 29 - 30. januar 20
 22 på Kjeller flyplass.\nMålgruppe er både erfarne og uerfarne piloter 
 enten du vil gjennomføre en full akroutsjekk eller kun ta et forkortet ku
 rs i unormale stillinger og spin.\nDu trenger ikke være medlem hos oss fo
 r å delta\, men medlemmer får rabatt.\n\nDu kan lese invitasjonen her.
LOCATION:Småflyhavna\, Småflyhavna\, Kjeller\, 2007\, Norway
GEO:59.96737569262569;11.05155920003051
X-APPLE-STRUCTURED-LOCATION;VALUE=URI;X-ADDRESS=Småflyhavna\, Kjeller\, 20
 07\, Norway;X-APPLE-RADIUS=100;X-TITLE=Småflyhavna:geo:59.96737569262569,
 11.05155920003051
END:VEVENT
BEGIN:VTIMEZONE
TZID:Europe/Oslo
X-LIC-LOCATION:Europe/Oslo
BEGIN:STANDARD
DTSTART:20211031T020000
TZOFFSETFROM:+0200
TZOFFSETTO:+0100
TZNAME:CET
END:STANDARD
END:VTIMEZONE
END:VCALENDAR