BEGIN:VCALENDAR
VERSION:2.0
PRODID:-//wp-events-plugin.com//7.2.2.1//EN
TZID:Europe/Oslo
X-WR-TIMEZONE:Europe/Oslo
BEGIN:VEVENT
UID:290@nrfk.org
DTSTART;TZID=Europe/Oslo:20220223T190000
DTEND;TZID=Europe/Oslo:20220223T210000
DTSTAMP:20220216T102140Z
URL:https://nrfk.org/events/arsmote-i-veteranflygruppa-2/
SUMMARY:Årsmøte i Veteranflygruppa
DESCRIPTION:Digitalt møte på Teams.\nInnkalling med påmeldingsinfo er se
 ndt på epost.\n[wpdm_package id=6296 template="link-template-default.php"
 ][wpdm_package id=6294 template="link-template-default.php"]\n[wpdm_packag
 e id=6288 template="link-template-default.php"]\n[wpdm_package id=6290 tem
 plate="link-template-default.php"]\n[wpdm_package id=6292 template="link-t
 emplate-default.php"]\n[wpdm_package id=6300 template="link-template-defau
 lt.php"]
END:VEVENT
BEGIN:VTIMEZONE
TZID:Europe/Oslo
X-LIC-LOCATION:Europe/Oslo
BEGIN:STANDARD
DTSTART:20211031T020000
TZOFFSETFROM:+0200
TZOFFSETTO:+0100
TZNAME:CET
END:STANDARD
END:VTIMEZONE
END:VCALENDAR