BEGIN:VCALENDAR
VERSION:2.0
PRODID:-//wp-events-plugin.com//7.2.2.1//EN
TZID:Europe/Oslo
X-WR-TIMEZONE:Europe/Oslo
BEGIN:VEVENT
UID:226@nrfk.org
DTSTART;TZID=Europe/Oslo:20200506T180000
DTEND;TZID=Europe/Oslo:20200506T200000
DTSTAMP:20200427T082150Z
URL:https://nrfk.org/events/corona-og-ira-se/
SUMMARY:Corona og IR(A) SE
DESCRIPTION:Det avholdes brief (videomøte) for de som trenger å forlenge 
 IR(A)SE på unntak grunnet Corona. Send epost til stei-oe@online.no så f
 år dere invitasjon kvelden føre. De som har fått beskjed om at de er re
 gistrert behøver ikke sende på nytt. Spørsmål kan rettes til Steinar 
 Østby.
END:VEVENT
BEGIN:VTIMEZONE
TZID:Europe/Oslo
X-LIC-LOCATION:Europe/Oslo
BEGIN:DAYLIGHT
DTSTART:20200329T030000
TZOFFSETFROM:+0100
TZOFFSETTO:+0200
TZNAME:CEST
END:DAYLIGHT
END:VTIMEZONE
END:VCALENDAR