BEGIN:VCALENDAR
VERSION:2.0
PRODID:-//wp-events-plugin.com//7.2.2.1//EN
TZID:Europe/Oslo
X-WR-TIMEZONE:Europe/Oslo
BEGIN:VEVENT
UID:349@nrfk.org
DTSTART;TZID=Europe/Oslo:20240919T190000
DTEND;TZID=Europe/Oslo:20240919T203000
DTSTAMP:20240918T083940Z
URL:https://nrfk.org/events/ekstraordinaert-arsmote-i-nedre-romerike-flykl
 ubb/
SUMMARY:Ekstraordinært årsmøte i Nedre Romerike Flyklubb - Link er nå p
 ublisert
DESCRIPTION:Møtet avholdes på Teams. Teams-linken ligger på hjemmsiden.\
 n\nLes mere på denne linken: https://nrfk.org/innkalling-til-ekstraordina
 ert-arsmote-i-nedre-romerike-flyklubb/
CATEGORIES:Diverse aktiviteter
END:VEVENT
BEGIN:VTIMEZONE
TZID:Europe/Oslo
X-LIC-LOCATION:Europe/Oslo
BEGIN:DAYLIGHT
DTSTART:20240331T030000
TZOFFSETFROM:+0100
TZOFFSETTO:+0200
TZNAME:CEST
END:DAYLIGHT
END:VTIMEZONE
END:VCALENDAR