BEGIN:VCALENDAR
VERSION:2.0
PRODID:-//wp-events-plugin.com//7.2.2.1//EN
TZID:Europe/Oslo
X-WR-TIMEZONE:Europe/Oslo
BEGIN:VEVENT
UID:102@nrfk.org
DTSTART;TZID=Europe/Oslo:20170318T130000
DTEND;TZID=Europe/Oslo:20170318T160000
DTSTAMP:20170304T171336Z
URL:https://nrfk.org/events/fly-in-gudstjeneste-vermundsjoen/
SUMMARY:Fly-in gudstjeneste Vermundsjøen
DESCRIPTION:Fly-in gudstjeneste i Åsnes Finnskog kirke\, ved Vermundsjøen
 .\n\nMer info her.&nbsp\;
LOCATION:Vermundsjøen\, Vermundsjøen\, Åsnes\, Norway
GEO:60.6996271;12.377013199999965
X-APPLE-STRUCTURED-LOCATION;VALUE=URI;X-ADDRESS=Vermundsjøen\, Åsnes\, No
 rway;X-APPLE-RADIUS=100;X-TITLE=Vermundsjøen:geo:60.6996271,12.3770131999
 99965
END:VEVENT
BEGIN:VTIMEZONE
TZID:Europe/Oslo
X-LIC-LOCATION:Europe/Oslo
BEGIN:STANDARD
DTSTART:20161030T020000
TZOFFSETFROM:+0200
TZOFFSETTO:+0100
TZNAME:CET
END:STANDARD
END:VTIMEZONE
END:VCALENDAR