BEGIN:VCALENDAR
VERSION:2.0
PRODID:-//wp-events-plugin.com//7.2.2.1//EN
TZID:Europe/Oslo
X-WR-TIMEZONE:Europe/Oslo
BEGIN:VEVENT
UID:283@nrfk.org
DTSTART;TZID=Europe/Oslo:20220921T160000
DTEND;TZID=Europe/Oslo:20220921T210000
DTSTAMP:20220913T145915Z
URL:https://nrfk.org/events/hostpuss-dugnad-6/
SUMMARY:Høstpussen
DESCRIPTION:Onsdag 21. september planlegger vi flyvask på Kjeller fra kl 1
 6.00. Merk at den er utsatt en uke i forhold til opprinnelig dato!\n\nVi h
 åper flest mulig kan stille\, og oppfordrer nye medlemmer til å komme og
  bli kjent med oss andre i klubben. Det gjør ingenting om du ikke kan væ
 re hele ettermiddagen. Vi avslutter som vanlig med pizza til alle!\n\nDugn
 aden gjelder også for elevene.\n\n&nbsp\;
LOCATION:Småflyhavna\, Småflyhavna\, Kjeller\, 2007\, Norway
GEO:59.96737569262569;11.05155920003051
X-APPLE-STRUCTURED-LOCATION;VALUE=URI;X-ADDRESS=Småflyhavna\, Kjeller\, 20
 07\, Norway;X-APPLE-RADIUS=100;X-TITLE=Småflyhavna:geo:59.96737569262569,
 11.05155920003051
END:VEVENT
BEGIN:VTIMEZONE
TZID:Europe/Oslo
X-LIC-LOCATION:Europe/Oslo
BEGIN:DAYLIGHT
DTSTART:20220327T030000
TZOFFSETFROM:+0100
TZOFFSETTO:+0200
TZNAME:CEST
END:DAYLIGHT
END:VTIMEZONE
END:VCALENDAR