BEGIN:VCALENDAR
VERSION:2.0
PRODID:-//wp-events-plugin.com//7.2.2.1//EN
TZID:Europe/Oslo
X-WR-TIMEZONE:Europe/Oslo
BEGIN:VEVENT
UID:317@nrfk.org
DTSTART;TZID=Europe/Oslo:20230913T160000
DTEND;TZID=Europe/Oslo:20230913T220000
DTSTAMP:20230210T125503Z
URL:https://nrfk.org/events/hostpuss-dugnad-7/
SUMMARY:Høstpuss - dugnad
DESCRIPTION:Vi vasker og polerer samtlige fly og rydder i hytta og hangaren
 e.\n\nVi begynner kl. 16:00\, men du kan komme når det passer!\n\nVi avsl
 utter med pizza på verandaen.\n\nDugnaden gjelder også for elevene.\n\nI
  tilfelle dårlig vær er 20.09 reservedag.\n\n&nbsp\;
CATEGORIES:Diverse aktiviteter
LOCATION:Småflyhavna\, Småflyhavna\, Kjeller\, 2007\, Norway
GEO:59.96737569262569;11.05155920003051
X-APPLE-STRUCTURED-LOCATION;VALUE=URI;X-ADDRESS=Småflyhavna\, Kjeller\, 20
 07\, Norway;X-APPLE-RADIUS=100;X-TITLE=Småflyhavna:geo:59.96737569262569,
 11.05155920003051
END:VEVENT
BEGIN:VTIMEZONE
TZID:Europe/Oslo
X-LIC-LOCATION:Europe/Oslo
BEGIN:DAYLIGHT
DTSTART:20230326T030000
TZOFFSETFROM:+0100
TZOFFSETTO:+0200
TZNAME:CEST
END:DAYLIGHT
END:VTIMEZONE
END:VCALENDAR