BEGIN:VCALENDAR
VERSION:2.0
PRODID:-//wp-events-plugin.com//7.2.2.1//EN
TZID:Europe/Oslo
X-WR-TIMEZONE:Europe/Oslo
BEGIN:VEVENT
UID:370@nrfk.org
DTSTART;TZID=Europe/Oslo:20250820T190000
DTEND;TZID=Europe/Oslo:20250820T220000
DTSTAMP:20250812T073907Z
URL:https://nrfk.org/events/informasjonsmote-om-kjeller-ved-lillestrom-kom
 mune-og-samferdseldept-onsdag-20-august-kl-19-i-kff-lokaler/
SUMMARY:Informasjonsmøte om Kjeller ved Lillestrøm Kommune og Samferdsels
 departementet
DESCRIPTION:Norges Luftsportforbund (NLF) og flyklubbene på Kjeller invite
 rer til informasjonsmøte om flyplassituasjonen i Oslo-området onsdag 20.
  august kl. 19.00. Møtet vil bli avholdt på Kjeller flyplass i KFFs loka
 ler.&nbsp\;\n\nKlikk her for å lese invitasjonen i sin helhet.
CATEGORIES:Diverse aktiviteter
LOCATION:Kjeller flyplass\, Småflyhavna\, Kjeller\, 2007\, Norway
GEO:59.97073719999999;11.039221199999929
X-APPLE-STRUCTURED-LOCATION;VALUE=URI;X-ADDRESS=Småflyhavna\, Kjeller\, 20
 07\, Norway;X-APPLE-RADIUS=100;X-TITLE=Kjeller flyplass:geo:59.97073719999
 999,11.039221199999929
END:VEVENT
BEGIN:VTIMEZONE
TZID:Europe/Oslo
X-LIC-LOCATION:Europe/Oslo
BEGIN:DAYLIGHT
DTSTART:20250330T030000
TZOFFSETFROM:+0100
TZOFFSETTO:+0200
TZNAME:CEST
END:DAYLIGHT
END:VTIMEZONE
END:VCALENDAR