BEGIN:VCALENDAR
VERSION:2.0
PRODID:-//wp-events-plugin.com//7.2.2.1//EN
TZID:Europe/Oslo
X-WR-TIMEZONE:Europe/Oslo
BEGIN:VEVENT
UID:188@nrfk.org
DTSTART;TZID=Europe/Oslo;VALUE=DATE:20190518
DTEND;TZID=Europe/Oslo;VALUE=DATE:20190520
DTSTAMP:20190519T124620Z
URL:https://nrfk.org/events/intensivskoling-pa-starmoen/
SUMMARY:Intensivskoling på Starmoen
DESCRIPTION:Ingtensivskoling med aktiviteter som halehjulsskoling på Piper
  Cub for utsjekk\, PFT eller landingstrening\, PPL-skoling\, PFT eller lan
 dingstrening på Aquila og C172\, og spinn-trening på CAP10.\nLes mer på
  denne linken.
LOCATION:Starmoen flyplass\, Starmoen flyplass\, Elverum\, Norway
GEO:60.87707649999999;11.674860800000033
X-APPLE-STRUCTURED-LOCATION;VALUE=URI;X-ADDRESS=Starmoen flyplass\, Elverum
 \, Norway;X-APPLE-RADIUS=100;X-TITLE=Starmoen flyplass:geo:60.877076499999
 99,11.674860800000033
END:VEVENT
BEGIN:VTIMEZONE
TZID:Europe/Oslo
X-LIC-LOCATION:Europe/Oslo
BEGIN:DAYLIGHT
DTSTART:20190331T030000
TZOFFSETFROM:+0100
TZOFFSETTO:+0200
TZNAME:CEST
END:DAYLIGHT
END:VTIMEZONE
END:VCALENDAR