BEGIN:VCALENDAR
VERSION:2.0
PRODID:-//wp-events-plugin.com//7.2.2.1//EN
TZID:Europe/Oslo
X-WR-TIMEZONE:Europe/Oslo
BEGIN:VEVENT
UID:189@nrfk.org
DTSTART;TZID=Europe/Oslo:20190424T190000
DTEND;TZID=Europe/Oslo:20190424T210000
DTSTAMP:20190415T090618Z
URL:https://nrfk.org/events/klubb-pft-teorikveld-2/
SUMMARY:Klubb-PFT Teorikveld
DESCRIPTION:Klubb-PFT Teorikveld onsdag 24. april kl. 19:00.\n\nKFFs lokale
 r\, 2. etasje i Småflyhavna
LOCATION:Småflyhavna\, Småflyhavna\, Kjeller\, 2007\, Norway
GEO:59.96737569262569;11.05155920003051
X-APPLE-STRUCTURED-LOCATION;VALUE=URI;X-ADDRESS=Småflyhavna\, Kjeller\, 20
 07\, Norway;X-APPLE-RADIUS=100;X-TITLE=Småflyhavna:geo:59.96737569262569,
 11.05155920003051
END:VEVENT
BEGIN:VTIMEZONE
TZID:Europe/Oslo
X-LIC-LOCATION:Europe/Oslo
BEGIN:DAYLIGHT
DTSTART:20190331T030000
TZOFFSETFROM:+0100
TZOFFSETTO:+0200
TZNAME:CEST
END:DAYLIGHT
END:VTIMEZONE
END:VCALENDAR