BEGIN:VCALENDAR
VERSION:2.0
PRODID:-//wp-events-plugin.com//7.2.2.1//EN
TZID:Europe/Oslo
X-WR-TIMEZONE:Europe/Oslo
BEGIN:VEVENT
UID:297@nrfk.org
DTSTART;TZID=Europe/Oslo;VALUE=DATE:20220930
DTEND;TZID=Europe/Oslo;VALUE=DATE:20221003
DTSTAMP:20220817T201140Z
URL:https://nrfk.org/events/klubbhelg-pa-starmoen-3/
SUMMARY:Klubbhelg på Starmoen
DESCRIPTION:Se https://nrfk.org/hold-av-datoen-klubbhelg-pa-starmoen-fredag
 -30-9-sondag-2-10-2022/
END:VEVENT
BEGIN:VTIMEZONE
TZID:Europe/Oslo
X-LIC-LOCATION:Europe/Oslo
BEGIN:DAYLIGHT
DTSTART:20220327T030000
TZOFFSETFROM:+0100
TZOFFSETTO:+0200
TZNAME:CEST
END:DAYLIGHT
END:VTIMEZONE
END:VCALENDAR