BEGIN:VCALENDAR
VERSION:2.0
PRODID:-//wp-events-plugin.com//7.2.2.1//EN
TZID:Europe/Oslo
X-WR-TIMEZONE:Europe/Oslo
BEGIN:VEVENT
UID:384@nrfk.org
DTSTART;TZID=Europe/Oslo:20260121T190000
DTEND;TZID=Europe/Oslo:20260121T210000
DTSTAMP:20260109T164416Z
URL:https://nrfk.org/events/klubbkveld-10/
SUMMARY:Klubbkveld
DESCRIPTION:\nÅrets første klubbkveld med tema vinterflyging tar av onsda
 g 21. januar kl. 19:00!\n\n\nOdd Johnny Pettersen&nbsp\;vil snakke om vint
 erflyging generelt\, og deretter vil&nbsp\;Kristian Forberg&nbsp\;dele sin
  historie og erfaring med havariet med LN-NRC i januar i 2024. Her blir de
 t mye å lære!\n\n\nVel møtt i 2. etasje i KFF’s lokaler på Kjeller!\
 n&nbsp\;\n
CATEGORIES:Diverse aktiviteter
END:VEVENT
BEGIN:VTIMEZONE
TZID:Europe/Oslo
X-LIC-LOCATION:Europe/Oslo
BEGIN:STANDARD
DTSTART:20251026T020000
TZOFFSETFROM:+0200
TZOFFSETTO:+0100
TZNAME:CET
END:STANDARD
END:VTIMEZONE
END:VCALENDAR