BEGIN:VCALENDAR
VERSION:2.0
PRODID:-//wp-events-plugin.com//7.2.2.1//EN
TZID:Europe/Oslo
X-WR-TIMEZONE:Europe/Oslo
BEGIN:VEVENT
UID:386@nrfk.org
DTSTART;TZID=Europe/Oslo:20260326T190000
DTEND;TZID=Europe/Oslo:20260326T210000
DTSTAMP:20260312T193012Z
URL:https://nrfk.org/events/klubbkveld-11/
SUMMARY:Klubbkveld
DESCRIPTION:Se&nbsp\; nrfk.org/klubbkveld-torsdag-26-mars/
CATEGORIES:Diverse aktiviteter
END:VEVENT
BEGIN:VTIMEZONE
TZID:Europe/Oslo
X-LIC-LOCATION:Europe/Oslo
BEGIN:STANDARD
DTSTART:20251026T020000
TZOFFSETFROM:+0200
TZOFFSETTO:+0100
TZNAME:CET
END:STANDARD
END:VTIMEZONE
END:VCALENDAR