BEGIN:VCALENDAR
VERSION:2.0
PRODID:-//wp-events-plugin.com//7.2.2.1//EN
TZID:Europe/Oslo
X-WR-TIMEZONE:Europe/Oslo
BEGIN:VEVENT
UID:109@nrfk.org
DTSTART;TZID=Europe/Oslo:20170328T180000
DTEND;TZID=Europe/Oslo:20170328T210000
DTSTAMP:20170313T202448Z
URL:https://nrfk.org/events/klubbkveld-2/
SUMMARY:Klubbkveld
DESCRIPTION:"Flyging i "dårlig" vær - planlegging og gjennomføring" \, "
 Hvordan bedømmer vi risiko og hvorfor gjør vi feil?" og klubbtur er emne
 r for denne klubbkvelden.\n\nLes mer her&nbsp\;og her.
LOCATION:Småflyhavna\, Småflyhavna\, Kjeller\, 2007\, Norway
GEO:59.96737569262569;11.05155920003051
X-APPLE-STRUCTURED-LOCATION;VALUE=URI;X-ADDRESS=Småflyhavna\, Kjeller\, 20
 07\, Norway;X-APPLE-RADIUS=100;X-TITLE=Småflyhavna:geo:59.96737569262569,
 11.05155920003051
END:VEVENT
BEGIN:VTIMEZONE
TZID:Europe/Oslo
X-LIC-LOCATION:Europe/Oslo
BEGIN:DAYLIGHT
DTSTART:20170326T030000
TZOFFSETFROM:+0100
TZOFFSETTO:+0200
TZNAME:CEST
END:DAYLIGHT
END:VTIMEZONE
END:VCALENDAR