BEGIN:VCALENDAR
VERSION:2.0
PRODID:-//wp-events-plugin.com//7.2.2.1//EN
TZID:Europe/Oslo
X-WR-TIMEZONE:Europe/Oslo
BEGIN:VEVENT
UID:265@nrfk.org
DTSTART;TZID=Europe/Oslo:20211028T190000
DTEND;TZID=Europe/Oslo:20211028T213000
DTSTAMP:20211009T204935Z
URL:https://nrfk.org/events/klubbkveld-3/
SUMMARY:Klubbkveld
DESCRIPTION:Sted: KFFs lokaler\, 2. etasje i Småflyhavna.\nTema denne kvel
 den er planlegging og gjennomføring av flytur med Skydemon.\nKvelden blir
  ledet av Bjørn Solberg.\nVelkommen til en hyggelig kveld med masse flypr
 at.\nBli kjent med andre medlemmer og del erfaringer.
LOCATION:Småflyhavna\, Småflyhavna\, Kjeller\, 2007\, Norway
GEO:59.96737569262569;11.05155920003051
X-APPLE-STRUCTURED-LOCATION;VALUE=URI;X-ADDRESS=Småflyhavna\, Kjeller\, 20
 07\, Norway;X-APPLE-RADIUS=100;X-TITLE=Småflyhavna:geo:59.96737569262569,
 11.05155920003051
END:VEVENT
BEGIN:VTIMEZONE
TZID:Europe/Oslo
X-LIC-LOCATION:Europe/Oslo
BEGIN:DAYLIGHT
DTSTART:20210328T030000
TZOFFSETFROM:+0100
TZOFFSETTO:+0200
TZNAME:CEST
END:DAYLIGHT
END:VTIMEZONE
END:VCALENDAR