BEGIN:VCALENDAR
VERSION:2.0
PRODID:-//wp-events-plugin.com//7.2.2.1//EN
TZID:Europe/Oslo
X-WR-TIMEZONE:Europe/Oslo
BEGIN:VEVENT
UID:328@nrfk.org
DTSTART;TZID=Europe/Oslo:20230329T190000
DTEND;TZID=Europe/Oslo:20230329T210000
DTSTAMP:20230308T172355Z
URL:https://nrfk.org/events/klubbkveld-med-niels-mykleby/
SUMMARY:Klubbkveld med Niels Mykleby
DESCRIPTION:Sted:&nbsp\;KFFs&nbsp\;lokaler\, 2. etasje i Småflyhavna.\n\nD
 enne gangen så har vi vært så heldige at vi får besøk av Niels Mykleb
 y som forteller om de seleksjonsprosessen i astronautopptaket&nbsp\;hos De
 n Europeiske Romfartsorganisasjonen (ESA). Over 23.000 søkte og Niels var
  en av de tre nordmennene som kom lengst. Han skal også fortelle om et am
 bisiøst nytt norsk romfartsprosjekt\, og litt om Norge som romnasjon.&nbs
 p\;\n\nVi avslutter med info rundt Halehjulsutsjekk og mulighetene rundt d
 ette\, denne delen ledes av Odd Johnny Pettersen.\n\nVelkommen til en hygg
 elig kveld bli kjent med andre medlemmer og kos deg med gode historier.\n\
 nVel møtt! 
CATEGORIES:Diverse aktiviteter
END:VEVENT
BEGIN:VTIMEZONE
TZID:Europe/Oslo
X-LIC-LOCATION:Europe/Oslo
BEGIN:DAYLIGHT
DTSTART:20230326T030000
TZOFFSETFROM:+0100
TZOFFSETTO:+0200
TZNAME:CEST
END:DAYLIGHT
END:VTIMEZONE
END:VCALENDAR