BEGIN:VCALENDAR
VERSION:2.0
PRODID:-//wp-events-plugin.com//7.2.2.1//EN
TZID:Europe/Oslo
X-WR-TIMEZONE:Europe/Oslo
BEGIN:VEVENT
UID:195@nrfk.org
DTSTART;TZID=Europe/Oslo:20191126T190000
DTEND;TZID=Europe/Oslo:20191126T220000
DTSTAMP:20191117T180257Z
URL:https://nrfk.org/events/klubbkveld-om-instrumentrating-cb-ir/
SUMMARY:Klubbkveld om instrumentrating (CB-IR)
DESCRIPTION:Bjørnar Øverland\, Svein Olav Bjerkeset\, Christian Mikalsen 
 og Steinar Østby arrangerer klubbkveld om instrumentrating.\n\nLes mer p
 å denne linken.
LOCATION:Småflyhavna\, Småflyhavna\, Kjeller\, Akershus\, 2007\, Norway
X-APPLE-STRUCTURED-LOCATION;VALUE=URI;X-ADDRESS=Småflyhavna\, Kjeller\, Ak
 ershus\, 2007\, Norway;X-APPLE-RADIUS=100;X-TITLE=Småflyhavna:geo:0,0
END:VEVENT
BEGIN:VTIMEZONE
TZID:Europe/Oslo
X-LIC-LOCATION:Europe/Oslo
BEGIN:STANDARD
DTSTART:20191027T020000
TZOFFSETFROM:+0200
TZOFFSETTO:+0100
TZNAME:CET
END:STANDARD
END:VTIMEZONE
END:VCALENDAR