BEGIN:VCALENDAR
VERSION:2.0
PRODID:-//wp-events-plugin.com//7.2.2.1//EN
TZID:Europe/Oslo
X-WR-TIMEZONE:Europe/Oslo
BEGIN:VEVENT
UID:131@nrfk.org
DTSTART;TZID=Europe/Oslo;VALUE=DATE:20180525
DTEND;TZID=Europe/Oslo;VALUE=DATE:20180528
DTSTAMP:20180420T085358Z
URL:https://nrfk.org/events/klubbturen-gar-til-mariehamn-efma/
SUMMARY:Klubbturen går til Mariehamn (EFMA)
DESCRIPTION:&nbsp\;Denne sesongens klubbtur skal gå til Mariehamn (EFMA) p
 å Åland helgen 25. til 27. mai.&nbsp\;\n\nDette er en glimrende anlednin
 g til å få erfaring i det å fly en litt lengre navigasjonstur\, i tille
 gg til at den går utenlands. Om du ønsker å fly selv\, eller være med 
 som observatør/passasjer så er det helt opp til deg.\n\nSvein Olav Bjerk
 eset er ansvarlig for opplegg og gjennomføring. Ta kontakt direkte med ha
 n om du har spørsmål eller ønsker å melde deg på denne turen.\n\nLes 
 mere om klubbturen her.\n\nLes mer om klubbens aktiviteter her.
LOCATION:Mariehamn (EFMA)\, Flygfältsvägen 67\, Mariehamn\, 22120 \, Finl
 and
GEO:60.12483280000001;19.907477700000072
X-APPLE-STRUCTURED-LOCATION;VALUE=URI;X-ADDRESS=Flygfältsvägen 67\, Marie
 hamn\, 22120 \, Finland;X-APPLE-RADIUS=100;X-TITLE=Mariehamn (EFMA):geo:60
 .12483280000001,19.907477700000072
END:VEVENT
BEGIN:VTIMEZONE
TZID:Europe/Oslo
X-LIC-LOCATION:Europe/Oslo
BEGIN:DAYLIGHT
DTSTART:20180325T030000
TZOFFSETFROM:+0100
TZOFFSETTO:+0200
TZNAME:CEST
END:DAYLIGHT
END:VTIMEZONE
END:VCALENDAR