BEGIN:VCALENDAR
VERSION:2.0
PRODID:-//wp-events-plugin.com//7.2.2.1//EN
TZID:Europe/Oslo
X-WR-TIMEZONE:Europe/Oslo
BEGIN:VEVENT
UID:329@nrfk.org
DTSTART;TZID=Europe/Oslo:20230417T190000
DTEND;TZID=Europe/Oslo:20230417T210000
DTSTAMP:20230413T150006Z
URL:https://nrfk.org/events/pft-teori-pa-nett/
SUMMARY:PFT-teori på nett
DESCRIPTION:PFT-teori gjennomføres som nettmøte mandag 17. april kl 19-21
 . Årlig PFT er obligatorisk for alle piloter i klubben.\n\nFor å delta\,
  send epost til Steinar Østby (stei-oe@online.no)\, så sendes invitasjon
  på epost ut i løpet av mandagen.\n\nVel møtt!
CATEGORIES:Klubb-PFT
END:VEVENT
BEGIN:VTIMEZONE
TZID:Europe/Oslo
X-LIC-LOCATION:Europe/Oslo
BEGIN:DAYLIGHT
DTSTART:20230326T030000
TZOFFSETFROM:+0100
TZOFFSETTO:+0200
TZNAME:CEST
END:DAYLIGHT
END:VTIMEZONE
END:VCALENDAR