BEGIN:VCALENDAR
VERSION:2.0
PRODID:-//wp-events-plugin.com//7.2.2.1//EN
TZID:Europe/Oslo
X-WR-TIMEZONE:Europe/Oslo
BEGIN:VEVENT
UID:324@nrfk.org
DTSTART;TZID=Europe/Oslo:20230311T093000
DTEND;TZID=Europe/Oslo:20230312T160000
DTSTAMP:20230302T092407Z
URL:https://nrfk.org/events/sikkerhetsseminar-om-flygeoppvisning/
SUMMARY:Sikkerhetsseminar om flygeoppvisning
DESCRIPTION:Luftfartstilsynet arrangerer \nsikkerhetsseminar om flyoppvisni
 ng.\nSted:&nbsp\;Pilot Flight Academy\, Torp\n\nDette seminaret er relevan
 t for alle som er aktivt involvert i oppvisningsflyging. Spesielt for oppv
 isningsflygere\, evaluatorer\, operative oppvisningsledere\, arrangører e
 ller lufttrafikktjenesten.&nbsp\;&nbsp\;\n\nOpplysninger og påmelding på
  https://luftfartstilsynet.no/om-oss/nyheter/nyheter-2023/sikkerhetssemina
 r-om-flyoppvisning-2023/
CATEGORIES:Diverse aktiviteter
END:VEVENT
BEGIN:VTIMEZONE
TZID:Europe/Oslo
X-LIC-LOCATION:Europe/Oslo
BEGIN:STANDARD
DTSTART:20221030T020000
TZOFFSETFROM:+0200
TZOFFSETTO:+0100
TZNAME:CET
END:STANDARD
END:VTIMEZONE
END:VCALENDAR