BEGIN:VCALENDAR
VERSION:2.0
PRODID:-//wp-events-plugin.com//7.2.2.1//EN
TZID:Europe/Oslo
X-WR-TIMEZONE:Europe/Oslo
BEGIN:VEVENT
UID:298@nrfk.org
DTSTART;TZID=Europe/Oslo:20220925T120000
DTEND;TZID=Europe/Oslo:20220925T160000
DTSTAMP:20220908T075332Z
URL:https://nrfk.org/events/sla-ring-om-kjeller/
SUMMARY:"Slå ring om Kjeller"
DESCRIPTION:Denne høsten skal Lillestrøm kommunes folkevalgte ta stilling
  til hvorvidt framtidas Kjeller er med eller uten flystripe og fly i lufta
 . Kjellers framtid avgjøres i kommunestyresalen den 9. november. Samtidig
  er Riksantikvarens mulige fredning av flyplassen fortsatt under arbeid.\n
 \nen folkeaksjon på flyplassen søndag 25. september kl. 13.00. Tanken er
  å samle så mange mennesker som mulig som står skulder ved skulder rund
 t rullebanen. Vi oppfordrer på det sterkeste alle medlemmer til å møte 
 opp denne dagen\, og ta med seg familie og venner.\n\nLes mer her:&nbsp\; 
 https://nrfk.org/sla-ring-om-kjeller-sondag-25-september-kl-13-00/
END:VEVENT
BEGIN:VTIMEZONE
TZID:Europe/Oslo
X-LIC-LOCATION:Europe/Oslo
BEGIN:DAYLIGHT
DTSTART:20220327T030000
TZOFFSETFROM:+0100
TZOFFSETTO:+0200
TZNAME:CEST
END:DAYLIGHT
END:VTIMEZONE
END:VCALENDAR