BEGIN:VCALENDAR
VERSION:2.0
PRODID:-//wp-events-plugin.com//7.2.2.1//EN
TZID:Europe/Oslo
X-WR-TIMEZONE:Europe/Oslo
BEGIN:VEVENT
UID:236@nrfk.org
DTSTART;TZID=Europe/Oslo:20210324T190000
DTEND;TZID=Europe/Oslo:20210324T210000
DTSTAMP:20210323T103056Z
URL:https://nrfk.org/events/styremote-60/
SUMMARY:Årsmøte
DESCRIPTION:Det avholdes ordinært årsmøte ifølge klubbens lover § 10 o
 nsdag 24. mars 2021 kl.19.00. På grunn av koronasituasjonen vil dette år
 smøtet bli gjennomføres som nettmøte\, og link til møtet ligger i innk
 allingen. Husk å bruke fullt navn ved pålogging til møtet slik at vi f
 år registrert de stemmeberettigede.\n\nInnkalling og saksdokumenter til 
 årsmøtet kan lastes ned fra Dokumentarkivet\, menyvalg Flyklubben &gt\; 
 Årsmøtedokumenter &gt\; Årsmøtet 2021.\nHusk at du må være logget in
 n for å tilgang til dokumentene.\n\nAdgang på årsmøtet har alle klubbe
 ns medlemmer\, også de som ikke har stemmerett. Hvorvidt andre personer k
 an få være tilstede\, avgjøres ved avstemming på årsmøtet\, jfr. § 
 10. For å ha stemmerett\, må et medlem ha fylt 15 år\, ha vært medlem 
 i minst en måned og ikke skylde forfalt kontingent\, jfr. § 4 og § 5.\n
 \n[wpdm_package id=5754 template="link-template-default.php"]
END:VEVENT
BEGIN:VTIMEZONE
TZID:Europe/Oslo
X-LIC-LOCATION:Europe/Oslo
BEGIN:STANDARD
DTSTART:20201025T020000
TZOFFSETFROM:+0200
TZOFFSETTO:+0100
TZNAME:CET
END:STANDARD
END:VTIMEZONE
END:VCALENDAR