BEGIN:VCALENDAR
VERSION:2.0
PRODID:-//wp-events-plugin.com//7.2.2.1//EN
TZID:Europe/Oslo
X-WR-TIMEZONE:Europe/Oslo
BEGIN:VEVENT
UID:269@nrfk.org
DTSTART;TZID=Europe/Oslo:20220105T190000
DTEND;TZID=Europe/Oslo:20220105T210000
DTSTAMP:20211231T145639Z
URL:https://nrfk.org/events/styremote-68/
SUMMARY:Styremøte
DESCRIPTION:Styremøte
END:VEVENT
BEGIN:VTIMEZONE
TZID:Europe/Oslo
X-LIC-LOCATION:Europe/Oslo
BEGIN:STANDARD
DTSTART:20211031T020000
TZOFFSETFROM:+0200
TZOFFSETTO:+0100
TZNAME:CET
END:STANDARD
END:VTIMEZONE
END:VCALENDAR