BEGIN:VCALENDAR
VERSION:2.0
PRODID:-//wp-events-plugin.com//7.2.2.1//EN
TZID:Europe/Oslo
X-WR-TIMEZONE:Europe/Oslo
BEGIN:VEVENT
UID:85@nrfk.org
DTSTART;TZID=Europe/Oslo:20160924T090000
DTEND;TZID=Europe/Oslo:20160924T153000
DTSTAMP:20160831T171241Z
URL:https://nrfk.org/events/teorikurs-oppstart/
SUMMARY:Teorikurs - oppstart
DESCRIPTION:Oppstart for høstens teorikurs for deg som er interessert i å
  lære å fly.\n\nDu kan lese mer her.
LOCATION:Småflyhavna\, Småflyhavna\, Kjeller\, 2007\, Norway
GEO:59.96737569262569;11.05155920003051
X-APPLE-STRUCTURED-LOCATION;VALUE=URI;X-ADDRESS=Småflyhavna\, Kjeller\, 20
 07\, Norway;X-APPLE-RADIUS=100;X-TITLE=Småflyhavna:geo:59.96737569262569,
 11.05155920003051
END:VEVENT
BEGIN:VTIMEZONE
TZID:Europe/Oslo
X-LIC-LOCATION:Europe/Oslo
BEGIN:DAYLIGHT
DTSTART:20160327T030000
TZOFFSETFROM:+0100
TZOFFSETTO:+0200
TZNAME:CEST
END:DAYLIGHT
END:VTIMEZONE
END:VCALENDAR