BEGIN:VCALENDAR
VERSION:2.0
PRODID:-//wp-events-plugin.com//7.2.2.1//EN
TZID:Europe/Oslo
X-WR-TIMEZONE:Europe/Oslo
BEGIN:VEVENT
UID:160@nrfk.org
DTSTART;TZID=Europe/Oslo:20181127T180000
DTEND;TZID=Europe/Oslo:20181127T213000
DTSTAMP:20181020T181552Z
URL:https://nrfk.org/events/vi-diskuterere-klubbturer/
SUMMARY:Vi diskuterere klubbturer
DESCRIPTION:Klubbkveld der vi diskuterer tid og destinasjon for neste seson
 gs klubbtur(er).\n\nVi møtes kl 18:00 i KFFs lokaler på Kjeller (diagona
 lt over plassen fra klubbhytta).\n\nVel møtt!\n\nLes om\, og se bilder fr
 a tidligere års klubbturer på denne linken.
END:VEVENT
BEGIN:VTIMEZONE
TZID:Europe/Oslo
X-LIC-LOCATION:Europe/Oslo
BEGIN:STANDARD
DTSTART:20181028T020000
TZOFFSETFROM:+0200
TZOFFSETTO:+0100
TZNAME:CET
END:STANDARD
END:VTIMEZONE
END:VCALENDAR