BEGIN:VCALENDAR
VERSION:2.0
PRODID:-//wp-events-plugin.com//7.2.2.1//EN
TZID:Europe/Oslo
X-WR-TIMEZONE:Europe/Oslo
BEGIN:VEVENT
UID:391@nrfk.org
DTSTART;TZID=Europe/Oslo:20260530T100000
DTEND;TZID=Europe/Oslo:20260530T150000
DTSTAMP:20260424T134944Z
URL:https://nrfk.org/events/wings-wheels-springmeet-2026/
SUMMARY:Wings & Wheels SpringMeet 2026
DESCRIPTION:Biltreff\, veteranfly og veteranbiler side om side.\n\nSe https
 ://biltreffnorge.com/event/springmeet-2026-wings-wheels-lillestrom/
CATEGORIES:Diverse aktiviteter
END:VEVENT
BEGIN:VTIMEZONE
TZID:Europe/Oslo
X-LIC-LOCATION:Europe/Oslo
BEGIN:DAYLIGHT
DTSTART:20260329T030000
TZOFFSETFROM:+0100
TZOFFSETTO:+0200
TZNAME:CEST
END:DAYLIGHT
END:VTIMEZONE
END:VCALENDAR